BEGIN:VCALENDAR
VERSION:2.0
PRODID:-//Biserica Evanghelică Română din Geneva - ECPv5.9.0//NONSGML v1.0//EN
CALSCALE:GREGORIAN
METHOD:PUBLISH
X-WR-CALNAME:Biserica Evanghelică Română din Geneva
X-ORIGINAL-URL:https://eerg.ch
X-WR-CALDESC:Events for Biserica Evanghelică Română din Geneva
BEGIN:VTIMEZONE
TZID:Europe/Zurich
BEGIN:DAYLIGHT
TZOFFSETFROM:+0100
TZOFFSETTO:+0200
TZNAME:CEST
DTSTART:20250330T010000
END:DAYLIGHT
BEGIN:STANDARD
TZOFFSETFROM:+0200
TZOFFSETTO:+0100
TZNAME:CET
DTSTART:20251026T010000
END:STANDARD
END:VTIMEZONE
BEGIN:VEVENT
DTSTART;TZID=Europe/Zurich:20250829T193000
DTEND;TZID=Europe/Zurich:20250829T210000
DTSTAMP:20260420T083512
CREATED:20250824T115214Z
LAST-MODIFIED:20250824T120336Z
UID:30381-1756495800-1756501200@eerg.ch
SUMMARY:Conferință Comemorativă — Biblia în viața credinciosului
DESCRIPTION:Anul acesta comemorăm 50 de ani de la trecerea la cele veșnice a lui Dumitru Cornilescu\, traducătorul celei mai răspândite versiuni a Bibliei în limba română.\nVă invităm la două zile de conferință și părtășie\, în care vom descoperi rolul Scripturii în viața credinciosului\, împreună cu invitații noștri:\n✨ Dr. Emil Bartoș\n✨ Dr. Vlad Crîznic \nProgram:\n📅 Vineri\, 29 august 2025\n⏰ 19:30 – 21:00 | Biserica Evanghelică Română din Geneva\n🔴 Live: www.eerg.ch/live \n \n📅 Sâmbătă\, 30 august 2025\n⏰ 11:00 – 12:00 | Paroisse Réformée de Clarens\nRezervați-vă locul aici: https://gosen.ch/formular/ \n📅 Sâmbătă\, 30 august 2025\n⏰ 18:00 – 20:00 | Biserica Evanghelică Română din Geneva\n🔴 Live: www.eerg.ch/live \n \nEveniment organizat de Biserica Evanghelică Română din Geneva\, în parteneriat cu Biserica Evanghelică Gosen din Sion și Credo TV. \n🙏 Vă așteptăm cu drag să ne bucurăm împreună de acest moment special de învățătură și comemorare!
URL:https://eerg.ch/event/conferinta-comemorativa-biblia-in-viata-credinciosului/
LOCATION:EERG\, Carrefour du Bouchet 4\, 1209\, Genève\, Switzerland
CATEGORIES:Sarbatoare
ATTACH;FMTTYPE=image/jpeg:https://eerg.ch/wp-content/uploads/2025/08/Conferinta-EERG.jpg
END:VEVENT
END:VCALENDAR